BEGIN:VCALENDAR
VERSION:2.0
PRODID:-//Pacific Hills Calvary Chapel | Orange County | Local Church - ECPv6.15.20//NONSGML v1.0//EN
CALSCALE:GREGORIAN
METHOD:PUBLISH
X-ORIGINAL-URL:https://www.ccpacifichills.org
X-WR-CALDESC:Events for Pacific Hills Calvary Chapel | Orange County | Local Church
REFRESH-INTERVAL;VALUE=DURATION:PT1H
X-Robots-Tag:noindex
X-PUBLISHED-TTL:PT1H
BEGIN:VTIMEZONE
TZID:America/Los_Angeles
BEGIN:DAYLIGHT
TZOFFSETFROM:-0800
TZOFFSETTO:-0700
TZNAME:PDT
DTSTART:20180311T100000
END:DAYLIGHT
BEGIN:STANDARD
TZOFFSETFROM:-0700
TZOFFSETTO:-0800
TZNAME:PST
DTSTART:20181104T090000
END:STANDARD
BEGIN:DAYLIGHT
TZOFFSETFROM:-0800
TZOFFSETTO:-0700
TZNAME:PDT
DTSTART:20190310T100000
END:DAYLIGHT
BEGIN:STANDARD
TZOFFSETFROM:-0700
TZOFFSETTO:-0800
TZNAME:PST
DTSTART:20191103T090000
END:STANDARD
BEGIN:DAYLIGHT
TZOFFSETFROM:-0800
TZOFFSETTO:-0700
TZNAME:PDT
DTSTART:20200308T100000
END:DAYLIGHT
BEGIN:STANDARD
TZOFFSETFROM:-0700
TZOFFSETTO:-0800
TZNAME:PST
DTSTART:20201101T090000
END:STANDARD
END:VTIMEZONE
BEGIN:VTIMEZONE
TZID:America/Los_Angeles
BEGIN:DAYLIGHT
TZOFFSETFROM:-0800
TZOFFSETTO:-0700
TZNAME:PDT
DTSTART:20180311T100000
END:DAYLIGHT
BEGIN:STANDARD
TZOFFSETFROM:-0700
TZOFFSETTO:-0800
TZNAME:PST
DTSTART:20181104T090000
END:STANDARD
BEGIN:DAYLIGHT
TZOFFSETFROM:-0800
TZOFFSETTO:-0700
TZNAME:PDT
DTSTART:20190310T100000
END:DAYLIGHT
BEGIN:STANDARD
TZOFFSETFROM:-0700
TZOFFSETTO:-0800
TZNAME:PST
DTSTART:20191103T090000
END:STANDARD
BEGIN:DAYLIGHT
TZOFFSETFROM:-0800
TZOFFSETTO:-0700
TZNAME:PDT
DTSTART:20200308T100000
END:DAYLIGHT
BEGIN:STANDARD
TZOFFSETFROM:-0700
TZOFFSETTO:-0800
TZNAME:PST
DTSTART:20201101T090000
END:STANDARD
END:VTIMEZONE
BEGIN:VEVENT
DTSTART;TZID=America/Los_Angeles:20191016T164500
DTEND;TZID=America/Los_Angeles:20191016T181500
DTSTAMP:20260421T025413
CREATED:20191007T163258Z
LAST-MODIFIED:20191014T014737Z
UID:10000071-1571244300-1571249700@www.ccpacifichills.org
SUMMARY:Study Club
DESCRIPTION:We are excited to offer an opportunity for students to receive tutoring free of charge. We have a variety of educators and experienced tutors who are offering help in a variety of areas. The Study Club will be available on Wednesdays from 4:45-6:15 PM (students get out in time to join us for dinner and youth group). We will also be offering a quiet room devoted to doing homework. This program is offered to all students in grades 4-12. If this is something you are interested in\, please click here to sign up. If you have additional questions\, please email Pastor Justin here. \n  \nCLICK HERE TO SIGN UP
URL:https://www.ccpacifichills.org/event/study-club/2019-10-16/
LOCATION:Pacific Hills\, 24481 Moulton Parkway\, Aliso Viejo\, 92637\, United States
CATEGORIES:High School Ministry,Junior Youth Ministry,Middle School Ministry,Youth Ministry
ATTACH;FMTTYPE=image/png:https://www.ccpacifichills.org/wp-content/uploads/2019/10/TUTORING_2019.png
ORGANIZER;CN="Pastor Justin Butorac":MAILTO:justin@ccpacifichills.org
GEO:33.6066714;-117.7224354
X-APPLE-STRUCTURED-LOCATION;VALUE=URI;X-ADDRESS=Pacific Hills 24481 Moulton Parkway Aliso Viejo 92637 United States;X-APPLE-RADIUS=500;X-TITLE=24481 Moulton Parkway:geo:-117.7224354,33.6066714
END:VEVENT
BEGIN:VEVENT
DTSTART;TZID=America/Los_Angeles:20191025T183000
DTEND;TZID=America/Los_Angeles:20191025T223000
DTSTAMP:20260421T025413
CREATED:20190918T192212Z
LAST-MODIFIED:20190918T194051Z
UID:10000081-1572028200-1572042600@www.ccpacifichills.org
SUMMARY:Voyage Rollerskating Night
DESCRIPTION:Here at Voyage\, we take roller skating seriously.  That is why we only roller skate once a year\, and when we do\, it is all out ROLLER MADNESS!!!!  This year\, we are going old school with an 80’s THEME.  Grab you neon\, hair spray\, and spandex\, and roll with us!!!!!  If you wear something neon or 80’s and you will be entered into a raffle to win a prize.  This is going to be an awesome night of great fun\, invite your friends!!! \nPlease meet at the church at 6:30 PM on October 25.  The cost is only $7.  Sign up in the youth room or by emailing Pastor Justin here.
URL:https://www.ccpacifichills.org/event/voyage-skate-night/
LOCATION:Pacific Hills\, 24481 Moulton Parkway\, Aliso Viejo\, 92637\, United States
CATEGORIES:Middle School Ministry,Youth Ministry
ORGANIZER;CN="Pastor Justin Butorac":MAILTO:justin@ccpacifichills.org
GEO:33.6066714;-117.7224354
X-APPLE-STRUCTURED-LOCATION;VALUE=URI;X-ADDRESS=Pacific Hills 24481 Moulton Parkway Aliso Viejo 92637 United States;X-APPLE-RADIUS=500;X-TITLE=24481 Moulton Parkway:geo:-117.7224354,33.6066714
END:VEVENT
END:VCALENDAR