BEGIN:VCALENDAR
VERSION:2.0
PRODID:-//Pacific Hills Calvary Chapel | Orange County | Local Church - ECPv6.15.20//NONSGML v1.0//EN
CALSCALE:GREGORIAN
METHOD:PUBLISH
X-WR-CALNAME:Pacific Hills Calvary Chapel | Orange County | Local Church
X-ORIGINAL-URL:https://www.ccpacifichills.org
X-WR-CALDESC:Events for Pacific Hills Calvary Chapel | Orange County | Local Church
REFRESH-INTERVAL;VALUE=DURATION:PT1H
X-Robots-Tag:noindex
X-PUBLISHED-TTL:PT1H
BEGIN:VTIMEZONE
TZID:America/Denver
BEGIN:DAYLIGHT
TZOFFSETFROM:-0700
TZOFFSETTO:-0600
TZNAME:MDT
DTSTART:20180311T090000
END:DAYLIGHT
BEGIN:STANDARD
TZOFFSETFROM:-0600
TZOFFSETTO:-0700
TZNAME:MST
DTSTART:20181104T080000
END:STANDARD
BEGIN:DAYLIGHT
TZOFFSETFROM:-0700
TZOFFSETTO:-0600
TZNAME:MDT
DTSTART:20190310T090000
END:DAYLIGHT
BEGIN:STANDARD
TZOFFSETFROM:-0600
TZOFFSETTO:-0700
TZNAME:MST
DTSTART:20191103T080000
END:STANDARD
BEGIN:DAYLIGHT
TZOFFSETFROM:-0700
TZOFFSETTO:-0600
TZNAME:MDT
DTSTART:20200308T090000
END:DAYLIGHT
BEGIN:STANDARD
TZOFFSETFROM:-0600
TZOFFSETTO:-0700
TZNAME:MST
DTSTART:20201101T080000
END:STANDARD
END:VTIMEZONE
BEGIN:VTIMEZONE
TZID:America/Los_Angeles
BEGIN:DAYLIGHT
TZOFFSETFROM:-0800
TZOFFSETTO:-0700
TZNAME:PDT
DTSTART:20180311T100000
END:DAYLIGHT
BEGIN:STANDARD
TZOFFSETFROM:-0700
TZOFFSETTO:-0800
TZNAME:PST
DTSTART:20181104T090000
END:STANDARD
BEGIN:DAYLIGHT
TZOFFSETFROM:-0800
TZOFFSETTO:-0700
TZNAME:PDT
DTSTART:20190310T100000
END:DAYLIGHT
BEGIN:STANDARD
TZOFFSETFROM:-0700
TZOFFSETTO:-0800
TZNAME:PST
DTSTART:20191103T090000
END:STANDARD
BEGIN:DAYLIGHT
TZOFFSETFROM:-0800
TZOFFSETTO:-0700
TZNAME:PDT
DTSTART:20200308T100000
END:DAYLIGHT
BEGIN:STANDARD
TZOFFSETFROM:-0700
TZOFFSETTO:-0800
TZNAME:PST
DTSTART:20201101T090000
END:STANDARD
END:VTIMEZONE
BEGIN:VEVENT
DTSTART;TZID=America/Denver:20190807T180000
DTEND;TZID=America/Denver:20190807T210000
DTSTAMP:20260421T055557
CREATED:20190627T035427Z
LAST-MODIFIED:20190701T221633Z
UID:10000273-1565200800-1565211600@www.ccpacifichills.org
SUMMARY:Jr. High Summer Bonfire
DESCRIPTION:On Wednesday\, August 7\, our Jr High Ministry will be meeting at the beach for a great night of fun and worship. We will meet at Doheney State Beach from 6:00-9:00 PM for dinner\, games\, worship\, a message\, s’mores\, and a ROARING bonfire. You can come early to hang out or surf with us! We will be in the grass at picnic area 13. \n 
URL:https://www.ccpacifichills.org/event/voyage-bonfire-2/
LOCATION:Doheny Beach\, 25300 Dana Point Harbor Drive\, Dana Point\, CA\, 92629\, United States
CATEGORIES:Middle School Ministry,Youth Ministry
ORGANIZER;CN="Pastor Justin Butorac":MAILTO:justin@ccpacifichills.org
GEO:33.4625308;-117.685689
X-APPLE-STRUCTURED-LOCATION;VALUE=URI;X-ADDRESS=Doheny Beach 25300 Dana Point Harbor Drive Dana Point CA 92629 United States;X-APPLE-RADIUS=500;X-TITLE=25300 Dana Point Harbor Drive:geo:-117.685689,33.4625308
END:VEVENT
BEGIN:VEVENT
DTSTART;TZID=America/Los_Angeles:20190814T183000
DTEND;TZID=America/Los_Angeles:20190814T203000
DTSTAMP:20260421T055557
CREATED:20190809T004529Z
LAST-MODIFIED:20190809T004529Z
UID:10000316-1565807400-1565814600@www.ccpacifichills.org
SUMMARY:Voyage JHM End Of Summer Water and Sock Party!!!
DESCRIPTION:We know that students are not “overly” excited for summer to end and school to begin\, so we are having an end-of-summer party to cheer them up! JR. High students are invited to join us for an awesome youth group party that features free Stance socks for any student who brings a friend (both the student and friend get a pair of socks)\, a water slide\, and water wars (bring your bathing suit). We will also have a message\, worship\, FREE dinner\, and games! The party is on Wednesday\, August 14\, from 6:30-8:30 PM.
URL:https://www.ccpacifichills.org/event/voyage-jhm-end-of-summer-water-and-sock-party/
LOCATION:Room 8 (JYM Room)\, 24481 Moulton Parkway\, Laguna Woods\, CA\, 92637\, United States
CATEGORIES:Middle School Ministry,Youth Ministry
ORGANIZER;CN="Pastor Justin Butorac":MAILTO:justin@ccpacifichills.org
GEO:33.6066714;-117.7224354
X-APPLE-STRUCTURED-LOCATION;VALUE=URI;X-ADDRESS=Room 8 (JYM Room) 24481 Moulton Parkway Laguna Woods CA 92637 United States;X-APPLE-RADIUS=500;X-TITLE=24481 Moulton Parkway:geo:-117.7224354,33.6066714
END:VEVENT
BEGIN:VEVENT
DTSTART;TZID=America/Los_Angeles:20190823T163000
DTEND;TZID=America/Los_Angeles:20190823T213000
DTSTAMP:20260421T055557
CREATED:20190627T035736Z
LAST-MODIFIED:20190805T222126Z
UID:10000293-1566577800-1566595800@www.ccpacifichills.org
SUMMARY:Jr. High Harvest Crusade Trip
DESCRIPTION:On Friday\, August 23\, our Jr. High Ministry will be bringing a group of students to the Harvest Crusade.  This is an awesome outreach opportunity and a great chance for our students to hear the Gospel preached in a clear and powerful way.  The night will feature music by the Passion Band and For King & Country.  Join us at the church from 3:30-9:30.  Rides are provided and so is Del taco.
URL:https://www.ccpacifichills.org/event/jr-high-harvest-crusade-trip/
LOCATION:Pacific Hills\, 24481 Moulton Parkway\, Aliso Viejo\, 92637\, United States
CATEGORIES:Middle School Ministry,Youth Ministry
ORGANIZER;CN="Pastor Justin Butorac":MAILTO:justin@ccpacifichills.org
GEO:33.6066714;-117.7224354
X-APPLE-STRUCTURED-LOCATION;VALUE=URI;X-ADDRESS=Pacific Hills 24481 Moulton Parkway Aliso Viejo 92637 United States;X-APPLE-RADIUS=500;X-TITLE=24481 Moulton Parkway:geo:-117.7224354,33.6066714
END:VEVENT
END:VCALENDAR