BEGIN:VCALENDAR
VERSION:2.0
PRODID:-//Pacific Hills Calvary Chapel | Orange County | Local Church - ECPv6.15.20//NONSGML v1.0//EN
CALSCALE:GREGORIAN
METHOD:PUBLISH
X-ORIGINAL-URL:https://www.ccpacifichills.org
X-WR-CALDESC:Events for Pacific Hills Calvary Chapel | Orange County | Local Church
REFRESH-INTERVAL;VALUE=DURATION:PT1H
X-Robots-Tag:noindex
X-PUBLISHED-TTL:PT1H
BEGIN:VTIMEZONE
TZID:America/Los_Angeles
BEGIN:DAYLIGHT
TZOFFSETFROM:-0800
TZOFFSETTO:-0700
TZNAME:PDT
DTSTART:20180311T100000
END:DAYLIGHT
BEGIN:STANDARD
TZOFFSETFROM:-0700
TZOFFSETTO:-0800
TZNAME:PST
DTSTART:20181104T090000
END:STANDARD
BEGIN:DAYLIGHT
TZOFFSETFROM:-0800
TZOFFSETTO:-0700
TZNAME:PDT
DTSTART:20190310T100000
END:DAYLIGHT
BEGIN:STANDARD
TZOFFSETFROM:-0700
TZOFFSETTO:-0800
TZNAME:PST
DTSTART:20191103T090000
END:STANDARD
BEGIN:DAYLIGHT
TZOFFSETFROM:-0800
TZOFFSETTO:-0700
TZNAME:PDT
DTSTART:20200308T100000
END:DAYLIGHT
BEGIN:STANDARD
TZOFFSETFROM:-0700
TZOFFSETTO:-0800
TZNAME:PST
DTSTART:20201101T090000
END:STANDARD
END:VTIMEZONE
BEGIN:VEVENT
DTSTART;TZID=America/Los_Angeles:20190703T183000
DTEND;TZID=America/Los_Angeles:20190703T203000
DTSTAMP:20260421T073241
CREATED:20190627T035254Z
LAST-MODIFIED:20190627T035254Z
UID:10000049-1562178600-1562185800@www.ccpacifichills.org
SUMMARY:Voyage Meet and Greet / Breakfast For Dinner
DESCRIPTION:Join our Voyage Jr. High Ministry for an awesome night of pancakes\, waffles\, eggs\, bacon\, and sausage!  We will be having a meet and greet with our leaders and Pastor Justin where you get to ask any questions you want!  Join us and get to know our ministry!
URL:https://www.ccpacifichills.org/event/voyage-meet-and-greet-breakfast-for-dinner/
LOCATION:Room 8 (JYM Room)\, 24481 Moulton Parkway\, Laguna Woods\, CA\, 92637\, United States
CATEGORIES:Middle School Ministry,Youth Ministry
ORGANIZER;CN="Pastor Justin Butorac":MAILTO:justin@ccpacifichills.org
GEO:33.6066714;-117.7224354
X-APPLE-STRUCTURED-LOCATION;VALUE=URI;X-ADDRESS=Room 8 (JYM Room) 24481 Moulton Parkway Laguna Woods CA 92637 United States;X-APPLE-RADIUS=500;X-TITLE=24481 Moulton Parkway:geo:-117.7224354,33.6066714
END:VEVENT
BEGIN:VEVENT
DTSTART;TZID=America/Los_Angeles:20190718T080000
DTEND;TZID=America/Los_Angeles:20190722T170000
DTSTAMP:20260421T073241
CREATED:20190415T165432Z
LAST-MODIFIED:20190415T165432Z
UID:10000268-1563436800-1563814800@www.ccpacifichills.org
SUMMARY:JR High Summer Camp
DESCRIPTION:Save the date: July 18-22 \nCampus By the Sea Retreat Center – Catalina Island \nCost: $325 \n  \nMore information and sign up details to follow.
URL:https://www.ccpacifichills.org/event/jr-high-summer-camp/
LOCATION:Campus By The Sea\, 3 Gallaghers Cove\, Catalina\, 90704\, United States
CATEGORIES:Middle School Ministry,Youth Ministry
ORGANIZER;CN="Pastor Justin Butorac":MAILTO:justin@ccpacifichills.org
GEO:33.3614631;-118.4396756
X-APPLE-STRUCTURED-LOCATION;VALUE=URI;X-ADDRESS=Campus By The Sea 3 Gallaghers Cove Catalina 90704 United States;X-APPLE-RADIUS=500;X-TITLE=3 Gallaghers Cove:geo:-118.4396756,33.3614631
END:VEVENT
END:VCALENDAR