BEGIN:VCALENDAR
VERSION:2.0
PRODID:-//Pacific Hills Calvary Chapel | Orange County | Local Church - ECPv6.15.20//NONSGML v1.0//EN
CALSCALE:GREGORIAN
METHOD:PUBLISH
X-ORIGINAL-URL:https://www.ccpacifichills.org
X-WR-CALDESC:Events for Pacific Hills Calvary Chapel | Orange County | Local Church
REFRESH-INTERVAL;VALUE=DURATION:PT1H
X-Robots-Tag:noindex
X-PUBLISHED-TTL:PT1H
BEGIN:VTIMEZONE
TZID:America/Los_Angeles
BEGIN:DAYLIGHT
TZOFFSETFROM:-0800
TZOFFSETTO:-0700
TZNAME:PDT
DTSTART:20180311T100000
END:DAYLIGHT
BEGIN:STANDARD
TZOFFSETFROM:-0700
TZOFFSETTO:-0800
TZNAME:PST
DTSTART:20181104T090000
END:STANDARD
BEGIN:DAYLIGHT
TZOFFSETFROM:-0800
TZOFFSETTO:-0700
TZNAME:PDT
DTSTART:20190310T100000
END:DAYLIGHT
BEGIN:STANDARD
TZOFFSETFROM:-0700
TZOFFSETTO:-0800
TZNAME:PST
DTSTART:20191103T090000
END:STANDARD
BEGIN:DAYLIGHT
TZOFFSETFROM:-0800
TZOFFSETTO:-0700
TZNAME:PDT
DTSTART:20200308T100000
END:DAYLIGHT
BEGIN:STANDARD
TZOFFSETFROM:-0700
TZOFFSETTO:-0800
TZNAME:PST
DTSTART:20201101T090000
END:STANDARD
END:VTIMEZONE
BEGIN:VTIMEZONE
TZID:America/Los_Angeles
BEGIN:DAYLIGHT
TZOFFSETFROM:-0800
TZOFFSETTO:-0700
TZNAME:PDT
DTSTART:20180311T100000
END:DAYLIGHT
BEGIN:STANDARD
TZOFFSETFROM:-0700
TZOFFSETTO:-0800
TZNAME:PST
DTSTART:20181104T090000
END:STANDARD
BEGIN:DAYLIGHT
TZOFFSETFROM:-0800
TZOFFSETTO:-0700
TZNAME:PDT
DTSTART:20190310T100000
END:DAYLIGHT
BEGIN:STANDARD
TZOFFSETFROM:-0700
TZOFFSETTO:-0800
TZNAME:PST
DTSTART:20191103T090000
END:STANDARD
BEGIN:DAYLIGHT
TZOFFSETFROM:-0800
TZOFFSETTO:-0700
TZNAME:PDT
DTSTART:20200308T100000
END:DAYLIGHT
BEGIN:STANDARD
TZOFFSETFROM:-0700
TZOFFSETTO:-0800
TZNAME:PST
DTSTART:20201101T090000
END:STANDARD
END:VTIMEZONE
BEGIN:VEVENT
DTSTART;TZID=America/Los_Angeles:20190602T130000
DTEND;TZID=America/Los_Angeles:20190602T140000
DTSTAMP:20260421T091344
CREATED:20190423T001152Z
LAST-MODIFIED:20190521T165824Z
UID:10000284-1559480400-1559484000@www.ccpacifichills.org
SUMMARY:Youth Info Luncheon
DESCRIPTION:On June 2nd\, after third service\, the youth ministry will host a luncheon for ALL parents/students of incoming grades 4 through 12.  We encourage parents of all students to attend this!  At this free taco cart luncheon\, you will get to meet the pastors and leaders\, be informed of the different programs\, and review our upcoming activities and events.  Please RSVP for the free lunch by emailing Pastor Justin here.  Families are welcome!
URL:https://www.ccpacifichills.org/event/youth-luncheon/
LOCATION:Pacific Hills\, 24481 Moulton Parkway\, Aliso Viejo\, 92637\, United States
CATEGORIES:High School Ministry,Junior Youth Ministry,Middle School Ministry,Youth Ministry
ORGANIZER;CN="Pastor Justin Butorac":MAILTO:justin@ccpacifichills.org
GEO:33.6066714;-117.7224354
X-APPLE-STRUCTURED-LOCATION;VALUE=URI;X-ADDRESS=Pacific Hills 24481 Moulton Parkway Aliso Viejo 92637 United States;X-APPLE-RADIUS=500;X-TITLE=24481 Moulton Parkway:geo:-117.7224354,33.6066714
END:VEVENT
BEGIN:VEVENT
DTSTART;TZID=America/Los_Angeles:20190605T183000
DTEND;TZID=America/Los_Angeles:20190605T203000
DTSTAMP:20260421T091344
CREATED:20190421T143927Z
LAST-MODIFIED:20190421T143927Z
UID:10000274-1559759400-1559766600@www.ccpacifichills.org
SUMMARY:JR High Grad Night Celebration
DESCRIPTION:If you are a graduating 8’th grade student\, we want to celebrate YOU! Join our whole Jr High Ministry for an epic night of stories\, Dundie awards\, Chik-fil-a\, sumo wrestling\, a photo booth\, and more! Mark your calendars for Wednesday\, June 5th from 6:30-8:30 PM.  This event is FREE for all students!!!
URL:https://www.ccpacifichills.org/event/seniors-grad-day-2017-2/
LOCATION:Room 8 (JYM Room)\, 24481 Moulton Parkway\, Laguna Woods\, CA\, 92637\, United States
CATEGORIES:Middle School Ministry,Youth Ministry
ORGANIZER;CN="Pastor Justin Butorac":MAILTO:justin@ccpacifichills.org
GEO:33.6066714;-117.7224354
X-APPLE-STRUCTURED-LOCATION;VALUE=URI;X-ADDRESS=Room 8 (JYM Room) 24481 Moulton Parkway Laguna Woods CA 92637 United States;X-APPLE-RADIUS=500;X-TITLE=24481 Moulton Parkway:geo:-117.7224354,33.6066714
END:VEVENT
BEGIN:VEVENT
DTSTART;TZID=America/Los_Angeles:20190618T183000
DTEND;TZID=America/Los_Angeles:20190618T203000
DTSTAMP:20260421T091344
CREATED:20190618T175302Z
LAST-MODIFIED:20190618T180611Z
UID:10000052-1560882600-1560889800@www.ccpacifichills.org
SUMMARY:Voyage Nerf Wars
DESCRIPTION:This summer\, we will kick off our Wednesday nights with an amazing opportunity for Jr. Highers to engage in the first battle of the summer….Nerf Wars.  So\, grab any Nerf gun you have\, load up on ammo\, and get ready to go wild with us!!!! \nThe evening will also be packed with games\, FREE food\, giveaways\, worship\, a message\, and much more.  The service begins at 6:30 PM and will end at 8:30 PM.
URL:https://www.ccpacifichills.org/event/first-voyage-jhm-midweek-2-2/
LOCATION:Room 8 (JYM Room)\, 24481 Moulton Parkway\, Laguna Woods\, CA\, 92637\, United States
CATEGORIES:Middle School Ministry,Youth Ministry
ORGANIZER;CN="Pastor Justin Butorac":MAILTO:justin@ccpacifichills.org
GEO:33.6066714;-117.7224354
X-APPLE-STRUCTURED-LOCATION;VALUE=URI;X-ADDRESS=Room 8 (JYM Room) 24481 Moulton Parkway Laguna Woods CA 92637 United States;X-APPLE-RADIUS=500;X-TITLE=24481 Moulton Parkway:geo:-117.7224354,33.6066714
END:VEVENT
BEGIN:VEVENT
DTSTART;TZID=America/Los_Angeles:20190629T090000
DTEND;TZID=America/Los_Angeles:20190629T170000
DTSTAMP:20260421T091344
CREATED:20190521T182736Z
LAST-MODIFIED:20190521T182923Z
UID:10000064-1561798800-1561827600@www.ccpacifichills.org
SUMMARY:Voyage TRIPLE Header Summer Kickoff Event
DESCRIPTION:At Voyage\, we love going fast.  We also love to help others.  And\, boy do we love to watch a good movie with friends.  So why have an event where you do just one of them?  Well\, we thought that since summer has begun\, we need to kick things off right with our annual “Voyage TRIPLE Header Summer Kickoff Event”.  That’s right\, all three of those amazing things are going down on Saturday\, June 29\, from 9:00 AM until 5:00 PM.  We will be meeting at the church to make lunches for homeless\, we will also watch a movie as we do this\, then we will deliver our lunches to a homeless shelter in Laguna Beach\, hang out and eat our lunches at the beach\, then we are off to K1 Speed Racing for an afternoon of racing and fun! \nThis Voyage event costs $30 and includes transportation\, K1 Speed\, and lunch and a movie at the church.  Sign up in the Voyage Room (Room 8) on the deck or by emailing Pastor Justin here. \n 
URL:https://www.ccpacifichills.org/event/triple-header/
LOCATION:Room 8 (JYM Room)\, 24481 Moulton Parkway\, Laguna Woods\, CA\, 92637\, United States
CATEGORIES:Middle School Ministry,Youth Ministry
ORGANIZER;CN="Pastor Justin Butorac":MAILTO:justin@ccpacifichills.org
GEO:33.6066714;-117.7224354
X-APPLE-STRUCTURED-LOCATION;VALUE=URI;X-ADDRESS=Room 8 (JYM Room) 24481 Moulton Parkway Laguna Woods CA 92637 United States;X-APPLE-RADIUS=500;X-TITLE=24481 Moulton Parkway:geo:-117.7224354,33.6066714
END:VEVENT
END:VCALENDAR