BEGIN:VCALENDAR
VERSION:2.0
PRODID:-//Pacific Hills Calvary Chapel | Orange County | Local Church - ECPv6.15.20//NONSGML v1.0//EN
CALSCALE:GREGORIAN
METHOD:PUBLISH
X-WR-CALNAME:Pacific Hills Calvary Chapel | Orange County | Local Church
X-ORIGINAL-URL:https://www.ccpacifichills.org
X-WR-CALDESC:Events for Pacific Hills Calvary Chapel | Orange County | Local Church
REFRESH-INTERVAL;VALUE=DURATION:PT1H
X-Robots-Tag:noindex
X-PUBLISHED-TTL:PT1H
BEGIN:VTIMEZONE
TZID:America/Los_Angeles
BEGIN:DAYLIGHT
TZOFFSETFROM:-0800
TZOFFSETTO:-0700
TZNAME:PDT
DTSTART:20180311T100000
END:DAYLIGHT
BEGIN:STANDARD
TZOFFSETFROM:-0700
TZOFFSETTO:-0800
TZNAME:PST
DTSTART:20181104T090000
END:STANDARD
BEGIN:DAYLIGHT
TZOFFSETFROM:-0800
TZOFFSETTO:-0700
TZNAME:PDT
DTSTART:20190310T100000
END:DAYLIGHT
BEGIN:STANDARD
TZOFFSETFROM:-0700
TZOFFSETTO:-0800
TZNAME:PST
DTSTART:20191103T090000
END:STANDARD
BEGIN:DAYLIGHT
TZOFFSETFROM:-0800
TZOFFSETTO:-0700
TZNAME:PDT
DTSTART:20200308T100000
END:DAYLIGHT
BEGIN:STANDARD
TZOFFSETFROM:-0700
TZOFFSETTO:-0800
TZNAME:PST
DTSTART:20201101T090000
END:STANDARD
END:VTIMEZONE
BEGIN:VEVENT
DTSTART;TZID=America/Los_Angeles:20190119T170000
DTEND;TZID=America/Los_Angeles:20190119T203000
DTSTAMP:20260421T181621
CREATED:20181216T155029Z
LAST-MODIFIED:20181216T155029Z
UID:10000113-1547917200-1547929800@www.ccpacifichills.org
SUMMARY:The Great Ice Cream Escape Jr High Event
DESCRIPTION:As 2019 kicks off\, we are excited to announce an event like no other…..The Great Ice Cream Escape!!!!  That’s right\, we have combined the thrill and brainy challenge of an escape room\, with the great reward of ice cream!  Our Jr High ministry will be meeting on January 19\, from 5:00-8:30 PM at the church\, to head to an escape room challenge in Irvine\, followed by Ice Cream at the Spectrum.  The cost is only $20 (plus some ice cream $$).  Please sign up by emailing Pastor Justin or in room 8.
URL:https://www.ccpacifichills.org/event/the-great-ice-cream-escape-jr-high-event/
LOCATION:Pacific Hills\, 24481 Moulton Parkway\, Aliso Viejo\, 92637\, United States
CATEGORIES:Middle School Ministry,Youth Ministry
ATTACH;FMTTYPE=image/jpeg:https://www.ccpacifichills.org/wp-content/uploads/2018/12/ICECREAMESCAPE.jpg
GEO:33.6066714;-117.7224354
X-APPLE-STRUCTURED-LOCATION;VALUE=URI;X-ADDRESS=Pacific Hills 24481 Moulton Parkway Aliso Viejo 92637 United States;X-APPLE-RADIUS=500;X-TITLE=24481 Moulton Parkway:geo:-117.7224354,33.6066714
END:VEVENT
BEGIN:VEVENT
DTSTART;TZID=America/Los_Angeles:20190123T183000
DTEND;TZID=America/Los_Angeles:20190123T203000
DTSTAMP:20260421T181621
CREATED:20190108T185133Z
LAST-MODIFIED:20190108T185133Z
UID:10000236-1548268200-1548275400@www.ccpacifichills.org
SUMMARY:Jr. High Sock Party
DESCRIPTION:Our Jr High is a big fan of footcare\, so\, we decided to have a party to celebrate it!!!!  Our Stance sock giveaway night is an awesome and FREE youth group party\, that features free Stance socks for any student who brings a friend (both the student and friend get a pair of socks).   We will also have a message\, worship\, FREE dinner\, and games! \nThese socks are the hottest items around\, so invite a friend to church today\, and take care of your feet!!!!!
URL:https://www.ccpacifichills.org/event/jr-high-sock-party/
LOCATION:Pacific Hills\, 24481 Moulton Parkway\, Aliso Viejo\, 92637\, United States
CATEGORIES:Middle School Ministry,Youth Ministry
ORGANIZER;CN="Pastor Justin Butorac":MAILTO:justin@ccpacifichills.org
GEO:33.6066714;-117.7224354
X-APPLE-STRUCTURED-LOCATION;VALUE=URI;X-ADDRESS=Pacific Hills 24481 Moulton Parkway Aliso Viejo 92637 United States;X-APPLE-RADIUS=500;X-TITLE=24481 Moulton Parkway:geo:-117.7224354,33.6066714
END:VEVENT
END:VCALENDAR