BEGIN:VCALENDAR
VERSION:2.0
PRODID:-//Pacific Hills Calvary Chapel | Orange County | Local Church - ECPv6.15.20//NONSGML v1.0//EN
CALSCALE:GREGORIAN
METHOD:PUBLISH
X-ORIGINAL-URL:https://www.ccpacifichills.org
X-WR-CALDESC:Events for Pacific Hills Calvary Chapel | Orange County | Local Church
REFRESH-INTERVAL;VALUE=DURATION:PT1H
X-Robots-Tag:noindex
X-PUBLISHED-TTL:PT1H
BEGIN:VTIMEZONE
TZID:America/Los_Angeles
BEGIN:DAYLIGHT
TZOFFSETFROM:-0800
TZOFFSETTO:-0700
TZNAME:PDT
DTSTART:20170312T100000
END:DAYLIGHT
BEGIN:STANDARD
TZOFFSETFROM:-0700
TZOFFSETTO:-0800
TZNAME:PST
DTSTART:20171105T090000
END:STANDARD
BEGIN:DAYLIGHT
TZOFFSETFROM:-0800
TZOFFSETTO:-0700
TZNAME:PDT
DTSTART:20180311T100000
END:DAYLIGHT
BEGIN:STANDARD
TZOFFSETFROM:-0700
TZOFFSETTO:-0800
TZNAME:PST
DTSTART:20181104T090000
END:STANDARD
BEGIN:DAYLIGHT
TZOFFSETFROM:-0800
TZOFFSETTO:-0700
TZNAME:PDT
DTSTART:20190310T100000
END:DAYLIGHT
BEGIN:STANDARD
TZOFFSETFROM:-0700
TZOFFSETTO:-0800
TZNAME:PST
DTSTART:20191103T090000
END:STANDARD
END:VTIMEZONE
BEGIN:VEVENT
DTSTART;TZID=America/Los_Angeles:20181222T180000
DTEND;TZID=America/Los_Angeles:20181222T210000
DTSTAMP:20260421T195659
CREATED:20181115T042833Z
LAST-MODIFIED:20181217T205131Z
UID:10000108-1545501600-1545512400@www.ccpacifichills.org
SUMMARY:Voyage Jr High Christmas Party
DESCRIPTION:Jr High students are invited to join us for an awesome night of free MEXICAN food\, games\, fireside worship\, a Christmas reading\, games and more!  The theme this year is “A Comfy Pajama Christmas”\, so grab your favorite pajamas\, bring a dessert\, and get ready for a great celebration!  Also\, there will be a white elephant gift exchange.  Please bring a gift with a minimum of $10 value.  The Christmas party begins at 6:00 PM on Saturday\, December 22nd at Pastor Justin’s house (21526 Pedroso\, Mission Viejo\, 92691) Please email Pastor Justin with any questions.
URL:https://www.ccpacifichills.org/event/voyage-christmas/
LOCATION:Pastor Justin’s house\, 21526 Pedroso\, Mission Viejo\, CA\, 92691\, United States
CATEGORIES:Middle School Ministry,Youth Ministry
ORGANIZER;CN="Pastor Justin Butorac":MAILTO:justin@ccpacifichills.org
GEO:33.650236;-117.656054
X-APPLE-STRUCTURED-LOCATION;VALUE=URI;X-ADDRESS=Pastor Justin’s house 21526 Pedroso Mission Viejo CA 92691 United States;X-APPLE-RADIUS=500;X-TITLE=21526 Pedroso:geo:-117.656054,33.650236
END:VEVENT
END:VCALENDAR