BEGIN:VCALENDAR
VERSION:2.0
PRODID:-//Pacific Hills Calvary Chapel | Orange County | Local Church - ECPv6.15.20//NONSGML v1.0//EN
CALSCALE:GREGORIAN
METHOD:PUBLISH
X-WR-CALNAME:Pacific Hills Calvary Chapel | Orange County | Local Church
X-ORIGINAL-URL:https://www.ccpacifichills.org
X-WR-CALDESC:Events for Pacific Hills Calvary Chapel | Orange County | Local Church
REFRESH-INTERVAL;VALUE=DURATION:PT1H
X-Robots-Tag:noindex
X-PUBLISHED-TTL:PT1H
BEGIN:VTIMEZONE
TZID:America/Los_Angeles
BEGIN:DAYLIGHT
TZOFFSETFROM:-0800
TZOFFSETTO:-0700
TZNAME:PDT
DTSTART:20170312T100000
END:DAYLIGHT
BEGIN:STANDARD
TZOFFSETFROM:-0700
TZOFFSETTO:-0800
TZNAME:PST
DTSTART:20171105T090000
END:STANDARD
BEGIN:DAYLIGHT
TZOFFSETFROM:-0800
TZOFFSETTO:-0700
TZNAME:PDT
DTSTART:20180311T100000
END:DAYLIGHT
BEGIN:STANDARD
TZOFFSETFROM:-0700
TZOFFSETTO:-0800
TZNAME:PST
DTSTART:20181104T090000
END:STANDARD
BEGIN:DAYLIGHT
TZOFFSETFROM:-0800
TZOFFSETTO:-0700
TZNAME:PDT
DTSTART:20190310T100000
END:DAYLIGHT
BEGIN:STANDARD
TZOFFSETFROM:-0700
TZOFFSETTO:-0800
TZNAME:PST
DTSTART:20191103T090000
END:STANDARD
END:VTIMEZONE
BEGIN:VEVENT
DTSTART;TZID=America/Los_Angeles:20180825T180000
DTEND;TZID=America/Los_Angeles:20180825T220000
DTSTAMP:20260422T030800
CREATED:20180729T155818Z
LAST-MODIFIED:20180729T160018Z
UID:10000004-1535220000-1535234400@www.ccpacifichills.org
SUMMARY:Voyage Rollerskating Night
DESCRIPTION:Here at the Voyage\, we take roller skating seriously.  \That is why we only roller skate once a year\, and when we do\, it is all out ROLLER MADNESS!!!!  This years theme is ANIMALS ON THE LOOSE.  Wear something to represent your favorite animal and you will be entered into a raffle to win a prize.  This is going to be an awesome night of great fun\, invite your friends!!! \nPlease meet at the church at 6:00 PM on August 25.  The cost is only $12.  Sign up in the youth room or by emailing Pastor Justin here.
URL:https://www.ccpacifichills.org/event/the-well-skate-night-2/
LOCATION:Pacific Hills\, 24481 Moulton Parkway\, Aliso Viejo\, 92637\, United States
CATEGORIES:Middle School Ministry,Youth Ministry
ORGANIZER;CN="Pastor Justin Butorac":MAILTO:justin@ccpacifichills.org
GEO:33.6066714;-117.7224354
X-APPLE-STRUCTURED-LOCATION;VALUE=URI;X-ADDRESS=Pacific Hills 24481 Moulton Parkway Aliso Viejo 92637 United States;X-APPLE-RADIUS=500;X-TITLE=24481 Moulton Parkway:geo:-117.7224354,33.6066714
END:VEVENT
END:VCALENDAR