BEGIN:VCALENDAR
VERSION:2.0
PRODID:-//Pacific Hills Calvary Chapel | Orange County | Local Church - ECPv6.15.20//NONSGML v1.0//EN
CALSCALE:GREGORIAN
METHOD:PUBLISH
X-WR-CALNAME:Pacific Hills Calvary Chapel | Orange County | Local Church
X-ORIGINAL-URL:https://www.ccpacifichills.org
X-WR-CALDESC:Events for Pacific Hills Calvary Chapel | Orange County | Local Church
REFRESH-INTERVAL;VALUE=DURATION:PT1H
X-Robots-Tag:noindex
X-PUBLISHED-TTL:PT1H
BEGIN:VTIMEZONE
TZID:America/Los_Angeles
BEGIN:DAYLIGHT
TZOFFSETFROM:-0800
TZOFFSETTO:-0700
TZNAME:PDT
DTSTART:20190310T100000
END:DAYLIGHT
BEGIN:STANDARD
TZOFFSETFROM:-0700
TZOFFSETTO:-0800
TZNAME:PST
DTSTART:20191103T090000
END:STANDARD
BEGIN:DAYLIGHT
TZOFFSETFROM:-0800
TZOFFSETTO:-0700
TZNAME:PDT
DTSTART:20200308T100000
END:DAYLIGHT
BEGIN:STANDARD
TZOFFSETFROM:-0700
TZOFFSETTO:-0800
TZNAME:PST
DTSTART:20201101T090000
END:STANDARD
BEGIN:DAYLIGHT
TZOFFSETFROM:-0800
TZOFFSETTO:-0700
TZNAME:PDT
DTSTART:20210314T100000
END:DAYLIGHT
BEGIN:STANDARD
TZOFFSETFROM:-0700
TZOFFSETTO:-0800
TZNAME:PST
DTSTART:20211107T090000
END:STANDARD
END:VTIMEZONE
BEGIN:VEVENT
DTSTART;TZID=America/Los_Angeles:20201212T120000
DTEND;TZID=America/Los_Angeles:20201212T140000
DTSTAMP:20260421T145550
CREATED:20201119T191518Z
LAST-MODIFIED:20201119T191518Z
UID:10000112-1607774400-1607781600@www.ccpacifichills.org
SUMMARY:Seasoned Classics Christmas Luncheon
DESCRIPTION:Join our Seasoned Classics Ministry for a special Christmas celebration at the church.  This event is open to all seniors.  The luncheon will take place on Saturday\, December 12\, from 12:00 – 2:00 PM at the church.  In addition to the free lunch\, we will have an ornament exchange.  If you would like to participate in the ornament exchange\, please bring a wrapped ornament.\n\nLunch is provided at no charge\, but registration for the event is required.\n\nFor questions\, or to register\, please contact Pastor Ken at ken@ccpacifichills.org
URL:https://www.ccpacifichills.org/event/seasoned-classics-christmas-luncheon/
LOCATION:Pacific Hills\, 24481 Moulton Parkway\, Aliso Viejo\, 92637\, United States
CATEGORIES:Senior's
ATTACH;FMTTYPE=image/jpeg:https://www.ccpacifichills.org/wp-content/uploads/2020/11/SEAS_CLAS_CHRISTMAS_2020.jpg
ORGANIZER;CN="Pastor Ken Krikac":MAILTO:ken@ccpacifichills.org
GEO:33.6066714;-117.7224354
X-APPLE-STRUCTURED-LOCATION;VALUE=URI;X-ADDRESS=Pacific Hills 24481 Moulton Parkway Aliso Viejo 92637 United States;X-APPLE-RADIUS=500;X-TITLE=24481 Moulton Parkway:geo:-117.7224354,33.6066714
END:VEVENT
END:VCALENDAR