BEGIN:VCALENDAR
VERSION:2.0
PRODID:-//Pacific Hills Calvary Chapel | Orange County | Local Church - ECPv6.15.20//NONSGML v1.0//EN
CALSCALE:GREGORIAN
METHOD:PUBLISH
X-ORIGINAL-URL:https://www.ccpacifichills.org
X-WR-CALDESC:Events for Pacific Hills Calvary Chapel | Orange County | Local Church
REFRESH-INTERVAL;VALUE=DURATION:PT1H
X-Robots-Tag:noindex
X-PUBLISHED-TTL:PT1H
BEGIN:VTIMEZONE
TZID:America/Denver
BEGIN:DAYLIGHT
TZOFFSETFROM:-0700
TZOFFSETTO:-0600
TZNAME:MDT
DTSTART:20170312T090000
END:DAYLIGHT
BEGIN:STANDARD
TZOFFSETFROM:-0600
TZOFFSETTO:-0700
TZNAME:MST
DTSTART:20171105T080000
END:STANDARD
BEGIN:DAYLIGHT
TZOFFSETFROM:-0700
TZOFFSETTO:-0600
TZNAME:MDT
DTSTART:20180311T090000
END:DAYLIGHT
BEGIN:STANDARD
TZOFFSETFROM:-0600
TZOFFSETTO:-0700
TZNAME:MST
DTSTART:20181104T080000
END:STANDARD
BEGIN:DAYLIGHT
TZOFFSETFROM:-0700
TZOFFSETTO:-0600
TZNAME:MDT
DTSTART:20190310T090000
END:DAYLIGHT
BEGIN:STANDARD
TZOFFSETFROM:-0600
TZOFFSETTO:-0700
TZNAME:MST
DTSTART:20191103T080000
END:STANDARD
END:VTIMEZONE
BEGIN:VEVENT
DTSTART;TZID=America/Denver:20180323T170000
DTEND;TZID=America/Denver:20180323T210000
DTSTAMP:20260425T091609
CREATED:20180306T214458Z
LAST-MODIFIED:20180306T214458Z
UID:10001979-1521824400-1521838800@www.ccpacifichills.org
SUMMARY:Seasoned Classics Game Night
DESCRIPTION:Connect with all the fun at the  Seasoned Classics Senior Ministry on Friday\, March 23rd at 5:00 PM. The game for the night is the Mexican Train Game and we will be having a Mexican potluck dinner.  Last names that begin with A-L  are asked to bring main Mexican dishes\, and M-Z are asked to bring salads or desserts.  Please RSVP Contact Steve & Ann Marie 714.356.4181 or bridegm@msn.com 
URL:https://www.ccpacifichills.org/event/seasoned-classics-game-night-6-2/
LOCATION:United States
CATEGORIES:Senior's
END:VEVENT
END:VCALENDAR