BEGIN:VCALENDAR
VERSION:2.0
PRODID:-//Pacific Hills Calvary Chapel | Orange County | Local Church - ECPv6.15.20//NONSGML v1.0//EN
CALSCALE:GREGORIAN
METHOD:PUBLISH
X-WR-CALNAME:Pacific Hills Calvary Chapel | Orange County | Local Church
X-ORIGINAL-URL:https://www.ccpacifichills.org
X-WR-CALDESC:Events for Pacific Hills Calvary Chapel | Orange County | Local Church
REFRESH-INTERVAL;VALUE=DURATION:PT1H
X-Robots-Tag:noindex
X-PUBLISHED-TTL:PT1H
BEGIN:VTIMEZONE
TZID:America/Los_Angeles
BEGIN:DAYLIGHT
TZOFFSETFROM:-0800
TZOFFSETTO:-0700
TZNAME:PDT
DTSTART:20170312T100000
END:DAYLIGHT
BEGIN:STANDARD
TZOFFSETFROM:-0700
TZOFFSETTO:-0800
TZNAME:PST
DTSTART:20171105T090000
END:STANDARD
BEGIN:DAYLIGHT
TZOFFSETFROM:-0800
TZOFFSETTO:-0700
TZNAME:PDT
DTSTART:20180311T100000
END:DAYLIGHT
BEGIN:STANDARD
TZOFFSETFROM:-0700
TZOFFSETTO:-0800
TZNAME:PST
DTSTART:20181104T090000
END:STANDARD
BEGIN:DAYLIGHT
TZOFFSETFROM:-0800
TZOFFSETTO:-0700
TZNAME:PDT
DTSTART:20190310T100000
END:DAYLIGHT
BEGIN:STANDARD
TZOFFSETFROM:-0700
TZOFFSETTO:-0800
TZNAME:PST
DTSTART:20191103T090000
END:STANDARD
END:VTIMEZONE
BEGIN:VEVENT
DTSTART;TZID=America/Los_Angeles:20180216T180000
DTEND;TZID=America/Los_Angeles:20180216T210000
DTSTAMP:20260425T105835
CREATED:20180207T013317Z
LAST-MODIFIED:20180207T013338Z
UID:10001565-1518804000-1518814800@www.ccpacifichills.org
SUMMARY:Seasoned Classics Q&A Night
DESCRIPTION:The Seasoned Classics Senior Ministry will be having a “Question and Answer Night” with Pastor Dave and Anne on Friday\, February 16th at 6:00 PM. There will also be an appetizer and dessert contest too (homemade please)! Last names beginning with A-L brings desserts\, M-Z brings appetizers.  It will be held at the 969 Calle Aragon Rec. Room in Laguna Woods.  Questions\, please contact Steve & Ann Marie @ 714.356.4181 or bridegm@msn.com.
URL:https://www.ccpacifichills.org/event/seasoned-classics-qa-night/
LOCATION:Clubhouse 3 (Laguna Woods)\, Laguna Woods\, CA\, 92637\, United States
CATEGORIES:Senior's
GEO:33.6103009;-117.7253305
END:VEVENT
END:VCALENDAR